BEGIN:VCALENDAR
VERSION:2.0
PRODID:-//ChamberMaster//Event Calendar 2.0//EN
METHOD:PUBLISH
X-PUBLISHED-TTL:P3D
REFRESH-INTERVAL:P3D
CALSCALE:GREGORIAN
BEGIN:VEVENT
DTSTART:20260506T220000Z
DTEND:20260507T000000Z
X-MICROSOFT-CDO-ALLDAYEVENT:FALSE
SUMMARY:Event of a Member: Sunrise over Santorini Paint Nite at Ya Ma's Restaurant with Hammar's Studios
DESCRIPTION:Paint Night at Ya Ma's   Santorini Sunset Escape\n\nEscape to the Greek islands before Mother's Day without leaving Salem!\n\nJoin us for a relaxing and fun Paint Night at Ya Ma's Greek Restaurant where you'll create a beautiful Santorini-inspired seaside painting.  \n\nWhat: Guided Paint Night (16x20 Canvas)\n\nWhere: Ya Ma's Greek Restaurant   Salem\, NH\n\nWhen: May 6th\n\nTime: 6PM 8PM\n\nPrice: $39.99\n\nWhat You'll Paint:\n\n\n	A classic blue dome overlooking the sea\n	A sparkling ocean with sailboats\n	Bright Mediterranean flowers\n	A warm sunset reflecting across the water\n\n\nNo experience is needed. Our instructors will guide you step-by-step from start to finish.\n\nMake It a Night Out:\n\nEnjoy Ya Ma's full Greek menu while you paint\, including appetizers\, entrees\, and drinks.\n\nPerfect For:\n\n\n	Date night\n	Girls' night\n	Friends night out\n	Anyone who loves travel-inspired art\n\n\nSpots are limited and these events fill quickly.\n\nReserve your seat today at: www.HammarsStudios.com\n\nPaint\, relax\, and enjoy a little piece of Greece right here in Salem.
X-ALT-DESC;FMTTYPE=text/html:<div>\n<div>\n<div>\n<div>\n<div>\n<div>\n<div>\n<div>\n<div>\n<div>\n<div>\n<div>\n<div>\n<div>\n<div>\n<div>\n<div>\n<div>\n<div>\n<div>\n<div>\n<div>\n<div>\n<h1 style="text-align:center"><strong>Paint Night at Ya Ma&rsquo\;s &ndash\; Santorini Sunset Escape</strong></h1>\n\n<h2><big>Escape to the Greek islands before Mother&#39\;s Day without leaving Salem!<br />\nJoin us for a relaxing and fun Paint Night at Ya Ma&rsquo\;s Greek Restaurant where you&rsquo\;ll create a beautiful Santorini-inspired seaside painting. &nbsp\;</big></h2>\n\n<p><strong>What:</strong>&nbsp\;Guided Paint Night (16x20 Canvas)<br />\n<strong>Where:</strong>&nbsp\;Ya Ma&rsquo\;s Greek Restaurant &ndash\; Salem\, NH<br />\n<strong>When:</strong>&nbsp\;May 6th<br />\n<strong>Time:</strong>&nbsp\;6PM&ndash\;8PM<br />\n<strong>Price:</strong>&nbsp\;$39.99</p>\n\n<p><strong>What You&rsquo\;ll Paint:</strong></p>\n\n<ul>\n	<li>A classic blue dome overlooking the sea</li>\n	<li>A sparkling ocean with sailboats</li>\n	<li>Bright Mediterranean flowers</li>\n	<li>A warm sunset reflecting across the water</li>\n</ul>\n\n<p>No experience is needed. Our instructors will guide you step-by-step from start to finish.</p>\n\n<p><strong>Make It a Night Out:</strong><br />\nEnjoy Ya Ma&rsquo\;s full Greek menu while you paint\, including appetizers\, entrees\, and drinks.</p>\n\n<p><strong>Perfect For:</strong></p>\n\n<ul>\n	<li>Date night</li>\n	<li>Girls&rsquo\; night</li>\n	<li>Friends night out</li>\n	<li>Anyone who loves travel-inspired art</li>\n</ul>\n\n<p>Spots are limited and these events fill quickly.<br />\nReserve your seat today at:&nbsp\;www.HammarsStudios.com</p>\n\n<p>Paint\, relax\, and enjoy a little piece of Greece right here in Salem.</p>\n</div>\n</div>\n</div>\n</div>\n\n<div>&nbsp\;</div>\n\n<div>&nbsp\;</div>\n</div>\n</div>\n</div>\n</div>\n</div>\n</div>\n</div>\n\n<div>&nbsp\;</div>\n\n<div>\n<div>&nbsp\;</div>\n</div>\n</div>\n</div>\n</div>\n\n<div>&nbsp\;</div>\n</div>\n\n<div>\n<div>&nbsp\;</div>\n\n<div>\n<div>\n<div>\n<div>&nbsp\;</div>\n\n<div>\n<div>&nbsp\;</div>\n\n<div>&nbsp\;</div>\n\n<div>\n<div>\n<div>&nbsp\;</div>\n\n<div>\n<div>\n<div>\n<p>&nbsp\;</p>\n</div>\n</div>\n</div>\n\n<div>\n<div>\n<div>\n<div>&nbsp\;</div>\n</div>\n</div>\n</div>\n</div>\n</div>\n</div>\n</div>\n</div>\n</div>\n\n<div>&nbsp\;</div>\n</div>\n</div>\n</div>\n</div>\n</div>\n</div>\n</div>\n</div>\n</div>\n
LOCATION:Salem Rockingham Mall 99 Rockingham Park Blvd Ya Ma's Restaurant (1st Floor next to DICK'S Sporting Goods)
UID:e.2029.17953
SEQUENCE:3
DTSTAMP:20260423T203324Z
URL:http://salem.southernnhchamber.com/events/details/event-of-a-member-sunrise-over-santorini-paint-nite-at-ya-ma-s-restaurant-with-hammar-s-studios-17953
END:VEVENT

END:VCALENDAR
