BEGIN:VCALENDAR
VERSION:2.0
PRODID:-//ChamberMaster//Event Calendar 2.0//EN
METHOD:PUBLISH
X-PUBLISHED-TTL:P3D
REFRESH-INTERVAL:P3D
CALSCALE:GREGORIAN
BEGIN:VEVENT
DTSTART:20260603T140000Z
DTEND:20260603T180000Z
X-MICROSOFT-CDO-ALLDAYEVENT:FALSE
SUMMARY:2026: 603 Food Truck Festival
DESCRIPTION:Get ready to celebrate 603 Day in the tastiest way possible!\n\n\n\nThe Southern NH Chamber of Commerce\, in partnership with the Town of Salem\, NH\, invites you to the 603 Food Truck Festival on Wednesday\, June 3rd from 10:00 AM   2:00 PM!\n\n\n\nCome enjoy a delicious lineup of local food trucks\, community fun\, and festive vibes as we celebrate everything that makes the 603 special. Many vendors will be offering featured items for just $6.03 in honor of 603 Day\, a perfect chance to try something new and support local businesses!\n\n\n\nBring your friends\, bring your appetite\, and don't miss this exciting community celebration!\n\n\n\nWe can't wait to see you there!
X-ALT-DESC;FMTTYPE=text/html:<span style="font-size:16px\;">Get ready to celebrate 603 Day in the tastiest way possible!<br />\n<br />\nThe Southern NH Chamber of Commerce\, in partnership with the Town of Salem\, NH\, invites you to the 603 Food Truck Festival on Wednesday\, June 3rd from 10:00 AM &ndash\; 2:00 PM!<br />\n<br />\nCome enjoy a delicious lineup of local food trucks\, community fun\, and festive vibes as we celebrate everything that makes the 603 special. Many vendors will be offering featured items for just $6.03 in honor of 603 Day\, a perfect chance to try something new and support local businesses!<br />\n<br />\nBring your friends\, bring your appetite\, and don&rsquo\;t miss this exciting community celebration!<br />\n<br />\nWe can&rsquo\;t wait to see you there!</span>
LOCATION:The event will take place in the parking lot next to the Chamber (formerly Tuscan Kitchen location)\, 81 Main Street in Salem\, NH 03079
UID:e.2029.17947
SEQUENCE:3
DTSTAMP:20260421T162539Z
URL:https://salem.southernnhchamber.com/events/details/2026-603-food-truck-festival-17947
END:VEVENT

END:VCALENDAR
