BEGIN:VCALENDAR
VERSION:2.0
PRODID:-//ChamberMaster//Event Calendar 2.0//EN
METHOD:PUBLISH
X-PUBLISHED-TTL:P3D
REFRESH-INTERVAL:P3D
CALSCALE:GREGORIAN
BEGIN:VEVENT
DTSTART:20261112T223000Z
DTEND:20261112T223000Z
X-MICROSOFT-CDO-ALLDAYEVENT:FALSE
SUMMARY:2026 Business After Hours at Day's Jewelers
DESCRIPTION:2026 Business After Hours\n\nDay's Jewelers
X-ALT-DESC;FMTTYPE=text/html:2026 Business After Hours<br />\nDay&#39\;s Jewelers&nbsp\;&nbsp\;&nbsp\;&nbsp\;
LOCATION:8 South Village Drive Salem\, NH 03079
UID:e.2029.17952
SEQUENCE:3
DTSTAMP:20260422T003621Z
URL:https://salem.southernnhchamber.com/events/details/2026-business-after-hours-at-day-s-jewelers-17952
END:VEVENT

END:VCALENDAR
