BEGIN:VCALENDAR
VERSION:2.0
PRODID:-//ChamberMaster//Event Calendar 2.0//EN
METHOD:PUBLISH
X-PUBLISHED-TTL:P3D
REFRESH-INTERVAL:P3D
CALSCALE:GREGORIAN
BEGIN:VEVENT
DTSTART:20260528T193000Z
DTEND:20260528T203000Z
X-MICROSOFT-CDO-ALLDAYEVENT:FALSE
SUMMARY:2026 Ribbon Cutting at Trailhead Treatment Center
DESCRIPTION:2026 Ribbon Cutting\n\nTrailhead Treatment Center
X-ALT-DESC;FMTTYPE=text/html:2026 Ribbon Cutting<br />\nTrailhead Treatment Center
LOCATION:103 Stiles Road Suites 1 & 2 Salem\, NH 03079
UID:e.2029.17949
SEQUENCE:3
DTSTAMP:20260419T162301Z
URL:https://salem.southernnhchamber.com/events/details/2026-ribbon-cutting-at-trailhead-treatment-center-17949
END:VEVENT

END:VCALENDAR
