BEGIN:VCALENDAR
VERSION:2.0
PRODID:-//ChamberMaster//Event Calendar 2.0//EN
METHOD:PUBLISH
X-PUBLISHED-TTL:P3D
REFRESH-INTERVAL:P3D
CALSCALE:GREGORIAN
BEGIN:VEVENT
DTSTART:20240724T120000Z
DTEND:20240724T130000Z
X-MICROSOFT-CDO-ALLDAYEVENT:FALSE
SUMMARY:Event of a Member: Business Education Series--Cutting Costs to Reap Profits!
DESCRIPTION:This month we are cutting our COGS (Costs of Goods Sold or Costs of Service) so we can reap the fruits of our labor. We will look at all the places where business owners' expenses start to creep up on them and rob them of the profitability they could have--money they could use to fix something\, grow something\, or just enjoy! \n\n\n\nWe'll sharpen our pencils and leave no stone unturned. When we're done\, you'll have several places where you can find that extra money! \n\n\n\nYou work hard for your money. Let's make your money work hard for you!
X-ALT-DESC;FMTTYPE=text/html:This month we are cutting our COGS (Costs of Goods Sold or Costs of Service) so we can reap the fruits of our labor. We will look at all the places where business owners&#39\; expenses start to creep up on them and rob them of the profitability they could have--money they could use to fix something\, grow something\, or just enjoy!&nbsp\;<br />\n<br />\nWe&#39\;ll sharpen our pencils and leave no stone unturned. When we&#39\;re done\, you&#39\;ll have several places where you can find that extra money!&nbsp\;<br />\n<br />\nYou work hard for your money. Let&#39\;s make your money work hard for you!&nbsp\;
LOCATION:Southern New Hampshire Chamber of Commerce Board Room 81 Main Street\, Salem\, NH 03079
UID:e.2029.14719
SEQUENCE:3
DTSTAMP:20260421T134901Z
URL:https://salem.southernnhchamber.com/events/details/event-of-a-member-business-education-series-cutting-costs-to-reap-profits-07-31-2024-14719
END:VEVENT

END:VCALENDAR
