BEGIN:VCALENDAR
VERSION:2.0
PRODID:-//ChamberMaster//Event Calendar 2.0//EN
METHOD:PUBLISH
X-PUBLISHED-TTL:P3D
REFRESH-INTERVAL:P3D
CALSCALE:GREGORIAN
BEGIN:VEVENT
DTSTART:20260522T220000Z
DTEND:20260523T000000Z
X-MICROSOFT-CDO-ALLDAYEVENT:FALSE
SUMMARY:Event of a Member: Greenhouse Dinner Series @ Zorvino Vineyards
DESCRIPTION:Join us for another evening of our Greenhouse Dinner Series  a one-of-a-kind culinary experience set beneath the soft glow of greenhouse lights.\n\nSurrounded by lush greenery\, the gentle ambiance of a flowing water feature\, and the warmth of a cozy\, glass-enclosed space\, guests will enjoy an elegant multi-course dinner crafted by our chef. Each course highlights seasonal ingredients\, elevated flavors\, and expertly curated wine pairings designed to complement every bite.\n\nSavor the moment\, taste the craftsmanship\, and immerse yourself in an evening where nature and cuisine come together beautifully.\n\nTickets are extremely limited so keep an eye out for announcements about the start of ticket sales!
X-ALT-DESC;FMTTYPE=text/html:<p>Join us for another evening of our&nbsp\;<strong>Greenhouse Dinner Series&nbsp\;</strong>&mdash\;a one-of-a-kind culinary experience set beneath the soft glow of greenhouse lights.</p>\n\n<p>Surrounded by lush greenery\, the gentle ambiance of a flowing water feature\, and the warmth of a cozy\, glass-enclosed space\, guests will enjoy an elegant multi-course dinner crafted by our chef. Each course highlights seasonal ingredients\, elevated flavors\, and expertly curated wine pairings designed to complement every bite.</p>\n\n<p>Savor the moment\, taste the craftsmanship\, and immerse yourself in an evening where nature and cuisine come together beautifully.</p>\n\n<p>Tickets are&nbsp\;<em>extremely limited</em>&mdash\;so keep an eye out for announcements about the start of ticket sales!</p>\n
LOCATION:The Greenhouse @ Zorvino Vineyards 226 Main Street Sandown\, NH 03873
UID:e.2029.17950
SEQUENCE:3
DTSTAMP:20260421T212247Z
URL:https://salem.southernnhchamber.com/events/details/event-of-a-member-greenhouse-dinner-series-zorvino-vineyards-17950
END:VEVENT

END:VCALENDAR
